BEGIN:VCALENDAR
VERSION:2.0
PRODID:-//Weerth 200 - ECPv6.15.20//NONSGML v1.0//EN
CALSCALE:GREGORIAN
METHOD:PUBLISH
X-ORIGINAL-URL:https://weerth200.de
X-WR-CALDESC:Veranstaltungen für Weerth 200
REFRESH-INTERVAL;VALUE=DURATION:PT1H
X-Robots-Tag:noindex
X-PUBLISHED-TTL:PT1H
BEGIN:VTIMEZONE
TZID:Europe/Berlin
BEGIN:DAYLIGHT
TZOFFSETFROM:+0100
TZOFFSETTO:+0200
TZNAME:CEST
DTSTART:20210328T010000
END:DAYLIGHT
BEGIN:STANDARD
TZOFFSETFROM:+0200
TZOFFSETTO:+0100
TZNAME:CET
DTSTART:20211031T010000
END:STANDARD
BEGIN:DAYLIGHT
TZOFFSETFROM:+0100
TZOFFSETTO:+0200
TZNAME:CEST
DTSTART:20220327T010000
END:DAYLIGHT
BEGIN:STANDARD
TZOFFSETFROM:+0200
TZOFFSETTO:+0100
TZNAME:CET
DTSTART:20221030T010000
END:STANDARD
BEGIN:DAYLIGHT
TZOFFSETFROM:+0100
TZOFFSETTO:+0200
TZNAME:CEST
DTSTART:20230326T010000
END:DAYLIGHT
BEGIN:STANDARD
TZOFFSETFROM:+0200
TZOFFSETTO:+0100
TZNAME:CET
DTSTART:20231029T010000
END:STANDARD
BEGIN:DAYLIGHT
TZOFFSETFROM:+0100
TZOFFSETTO:+0200
TZNAME:CEST
DTSTART:20240331T010000
END:DAYLIGHT
BEGIN:STANDARD
TZOFFSETFROM:+0200
TZOFFSETTO:+0100
TZNAME:CET
DTSTART:20241027T010000
END:STANDARD
END:VTIMEZONE
BEGIN:VEVENT
DTSTART;VALUE=DATE:20230309
DTEND;VALUE=DATE:20230317
DTSTAMP:20260421T172632
CREATED:20221021T090701Z
LAST-MODIFIED:20221021T090859Z
UID:7838-1678320000-1679011199@weerth200.de
SUMMARY:Auf den Spuren Georg Weerths in Kuba
DESCRIPTION:Der Kulturreiseveranstalter opera viva art + tour bietet die einmalige Gelegenheit\, auf Weerths letzten Spuren auf Kuba zu wandeln. Anbei zum Download die \n→ Beschreibung und der \n→ Anmeldebogen.
URL:https://weerth200.de/event/auf-den-spuren-georg-weerths-in-kuba/
LOCATION:NRW
ATTACH;FMTTYPE=image/jpeg:https://weerth200.de/wp-content/uploads/2022/08/cuba-map-2.jpg
END:VEVENT
BEGIN:VEVENT
DTSTART;TZID=Europe/Berlin:20221211T180000
DTEND;TZID=Europe/Berlin:20221211T180000
DTSTAMP:20260421T172632
CREATED:20211219T151717Z
LAST-MODIFIED:20221204T123037Z
UID:4427-1670781600-1670781600@weerth200.de
SUMMARY:»Ausgetrunken!«Der traditionelle Grabbe-Punsch
DESCRIPTION:Das Jahrbuch 2022 mit Schwerpunkt auf Georg Weerth wird an diesem Abend an die Mitglieder der Grabbe-Gesellschaft ausgehändigt. Auch Gäste sind herzlich willkommen! \nDer Eintritt ist frei.
URL:https://weerth200.de/event/der-traditionelle-grabbe-punsch/
LOCATION:Detmold\, Grabbe-Haus\, Bruchstr. 27\, Detmold\, NRW\, 32756\, Deutschland
ATTACH;FMTTYPE=image/jpeg:https://weerth200.de/wp-content/uploads/2021/12/Punsch_6752146_1920_©-Vinzenz-Lorenz-M_Pixabay.jpg
ORGANIZER;CN="Grabbe-Gesellschaft e.V.":MAILTO:info@grabbe.de
END:VEVENT
BEGIN:VEVENT
DTSTART;TZID=Europe/Berlin:20221118T193000
DTEND;TZID=Europe/Berlin:20221118T193000
DTSTAMP:20260421T172632
CREATED:20211219T150932Z
LAST-MODIFIED:20221112T081927Z
UID:4424-1668799800-1668799800@weerth200.de
SUMMARY:»Verliebtsein ist eine abscheuliche Plage …«
DESCRIPTION:Szenische Lesung\nBriefe von Betty Tendering und Georg Weerth\, vorgetragen vom Musikalisch-Literarischen Quartett. \nDer Eintritt ist frei.
URL:https://weerth200.de/event/verliebtsein-ist-eine-abscheuliche-plage-2/
LOCATION:Detmold\, Stadtbibliothek\, Leopoldstr. 5\, Detmold\, NRW\, 32756\, Deutschland
ATTACH;FMTTYPE=image/jpeg:https://weerth200.de/wp-content/uploads/2021/01/frau.jpg
ORGANIZER;CN="Grabbe-Gesellschaft e.V.":MAILTO:info@grabbe.de
END:VEVENT
BEGIN:VEVENT
DTSTART;TZID=Europe/Berlin:20221115T190000
DTEND;TZID=Europe/Berlin:20221115T190000
DTSTAMP:20260421T172632
CREATED:20221111T155413Z
LAST-MODIFIED:20221111T155413Z
UID:7414-1668538800-1668538800@weerth200.de
SUMMARY:»Die Guillotine wird uns retten …«
DESCRIPTION:»… und die Leidenschaft der Weiber!« \nHistorical mit dem Musikalisch-Literarischen Quartett und dem Vokalensemble vielanders. Weitere Infos siehe →HIER. \n  \nDer Eintritt ist frei. Wir bitten um Spenden am Ausgang.
URL:https://weerth200.de/event/die-guillotine-wird-uns-retten-5/
LOCATION:CityKirche Elberfeld\, Kirchplatz 2\, Wuppertaö\, NRW\, 42103\, Deutschland
ATTACH;FMTTYPE=image/jpeg:https://weerth200.de/wp-content/uploads/2022/11/CityKirche-Elberfeld.jpeg
ORGANIZER;CN="Projektb%C3%BCro %C2%BBWeerth200%C2%AB":MAILTO:redaktion@weerth200.de
END:VEVENT
BEGIN:VEVENT
DTSTART;TZID=Europe/Berlin:20221026T193000
DTEND;TZID=Europe/Berlin:20221026T193000
DTSTAMP:20260421T172632
CREATED:20220114T181243Z
LAST-MODIFIED:20221021T083622Z
UID:4893-1666812600-1666812600@weerth200.de
SUMMARY:»Der Dichter lebt zwei Leben«
DESCRIPTION:Eine literarische Hommage\nzum 200. Geburtstag von Theodor Althaus (*26. Oktober 1822 in Detmold\, † 2. April 1852 in Gotha) in Erinnerungen u. a. der Malvida von Meysenbug (1816-1903). Der Eintritt ist frei. \n→ Programm
URL:https://weerth200.de/event/der-dichter-lebt-zwei-leben/
LOCATION:Detmold\, Volkshochschule\, Krumme Str. 20\, Detmold\, NRW\, 32756\, Deutschland
ATTACH;FMTTYPE=image/png:https://weerth200.de/wp-content/uploads/2022/01/221026-VHS-DT_200.Geb_.Theodor-Althaus_Plakat_qu.png
ORGANIZER;CN="Grabbe-Gesellschaft e.V.":MAILTO:info@grabbe.de
END:VEVENT
BEGIN:VEVENT
DTSTART;TZID=Europe/Berlin:20220930T150000
DTEND;TZID=Europe/Berlin:20220930T173000
DTSTAMP:20260421T172632
CREATED:20220405T135231Z
LAST-MODIFIED:20220405T135920Z
UID:6273-1664550000-1664559000@weerth200.de
SUMMARY:Wegbereiter der Demokratie aus Detmold
DESCRIPTION:Einführungsvortrag und Stadtrundgang\nauf den Spuren von Georg Weerth und Theodor Althaus. \nDer Eintritt ist frei. Anmeldung: karten@weerth200.de
URL:https://weerth200.de/event/wegbereiter-der-demokratie-aus-detmold/
LOCATION:Detmold\, Volkshochschule\, Krumme Str. 20\, Detmold\, NRW\, 32756\, Deutschland
ATTACH;FMTTYPE=image/jpeg:https://weerth200.de/wp-content/uploads/2022/04/210413-Bauzaun-Hornsche-Str._IMG_5302_qu.jpg
ORGANIZER;CN="Grabbe-Gesellschaft e.V.":MAILTO:info@grabbe.de
END:VEVENT
BEGIN:VEVENT
DTSTART;VALUE=DATE:20220930
DTEND;VALUE=DATE:20221201
DTSTAMP:20260421T172632
CREATED:20211219T150641Z
LAST-MODIFIED:20211219T150641Z
UID:4422-1664496000-1669852799@weerth200.de
SUMMARY:Ausstellung
DESCRIPTION:Weerth-Skizzen von Rainer Nummer\nDie Vernissage ist am 30.9.2022 um 18 Uhr. Sie wird mit Musik der Johannes-Brahms-Musikschule Detmold begleitet.\nDie Bilder können bis zum 30.11.2022 während der Öffnungszeiten in der Stadtbibliothek Detmold besichtigt werden. Der Eintritt ist frei.
URL:https://weerth200.de/event/ausstellung/
LOCATION:Detmold\, Stadtbibliothek\, Leopoldstr. 5\, Detmold\, NRW\, 32756\, Deutschland
ATTACH;FMTTYPE=image/jpeg:https://weerth200.de/wp-content/uploads/2021/07/028a_nummer-weerth-zyklus_0127.jpg
ORGANIZER;CN="Grabbe-Gesellschaft e.V.":MAILTO:info@grabbe.de
END:VEVENT
BEGIN:VEVENT
DTSTART;TZID=Europe/Berlin:20220918T103000
DTEND;TZID=Europe/Berlin:20220918T140000
DTSTAMP:20260421T172632
CREATED:20220103T090414Z
LAST-MODIFIED:20220815T192354Z
UID:4710-1663497000-1663509600@weerth200.de
SUMMARY:Mit Georg und Theo unterwegs
DESCRIPTION:Workshop für kleine Reporter von 8-12 Jahre\nEine literarische Entdeckungsreise für Kinder und Jugendliche auf den Spuren der 1822 in Detmold geborenen Frühdemokraten Georg Weerth und Theodor Althaus. Ein Beitrag der Grabbe-Gesellschaft zum Kinder- und Jugendliteraturfest der Stadt Detmold und des Literaturbüros OWL. Dieses schreibt dazu: \n„Habt ihr Lust zu schreiben\, zu recherchieren\, Interviews zu führen und Fotos zu machen – kurz gefragt: Habt ihr Lust\, die Reporter unseres Festes zu sein? Ausgestattet mit einem Stift\, einem Notizheft\, einer Kamera und einem Presseausweis besucht ihr eine Veranstaltung eurer Wahl in der Detmolder Innenstadt. Anschließend geht es ins Redaktionsbüro (Jugendtreff Fürstenzimmer)\, um das gesammelte Material zu sichten und um natürlich zu schreiben – eben wie echte Journalisten. Hans Hermann Jansen\, Geschäftsführer der Grabbe-Gesellschaft\, leitet gemeinsam mit der Redakteurin Karen Hansmeier sowie der jungen Künstlerin Maja Machalke den kreativen Workshop. Die Teilnehmer erhalten nicht nur einen journalistischen Einblick in einen Redaktionsalltag\, sondern werden auch auf die Spuren der Detmolder Dichter und Journalisten Georg (Georg Weerth) und Theo (Theodor Althaus) geführt. Wenn du neugierig bist und Lust aufs Schreiben hast\, dann bist du hier genau richtig! Für Verpflegung sowie ausreichend Schreibmaterialien ist gesorgt.“ \n→HIER kann das gesamte Programm des Wochenendes eingesehen werden.\n→PDF zum Herunterladen
URL:https://weerth200.de/event/mit-georg-und-theo-unterwegs/
LOCATION:Detmold\, Jugendtreff »Fürstenzimmer«\, Bahnhofstr. 8\, Detmold\, NRW\, 32756\, Deutschland
ATTACH;FMTTYPE=image/png:https://weerth200.de/wp-content/uploads/2022/01/Reporter.png
ORGANIZER;CN="Literaturb%C3%BCro OWL in Detmold e.V.":MAILTO:wortspielerei@literaturbuero-owl.de
END:VEVENT
BEGIN:VEVENT
DTSTART;TZID=Europe/Berlin:20220729T180000
DTEND;TZID=Europe/Berlin:20220729T213000
DTSTAMP:20260421T172632
CREATED:20220107T083352Z
LAST-MODIFIED:20220107T083841Z
UID:4759-1659117600-1659130200@weerth200.de
SUMMARY:Senne-Wanderung
DESCRIPTION:Ludwig Menke (1822–1882)\, Sanddünen in der Senne\, 1865 | © Lipp. Landesmuseum \nMit Georg Weerth durch abendliche Senne-Landschaften\nGeführte literarische Entdeckungsreise (Wanderung\, Lesung und Picknick) durch die Senne mit Lesungen aus Georg Weerths »Die Armen in der Senne«. \nTreffpunkt: Parkplatz Mittweg 30\, 33758 Schloss Holte-Stukenbrock (gegenüber dem Wasserwerk). \n\nRezitation: Prof. Dr. Joachim Thalmann\nKosten für abendlichen Imbiss\, Getränk und Lesung: 10 €\nAnmeldungen erbeten unter karten[at]weerth200.de
URL:https://weerth200.de/event/senne-wanderung/
LOCATION:NRW
ATTACH;FMTTYPE=image/png:https://weerth200.de/wp-content/uploads/2022/01/Senne-Landschaft-©-Lipp.-Landesmuseum.png
ORGANIZER;CN="Grabbe-Gesellschaft e.V.":MAILTO:info@grabbe.de
END:VEVENT
BEGIN:VEVENT
DTSTART;TZID=Europe/Berlin:20220709T190000
DTEND;TZID=Europe/Berlin:20220709T190000
DTSTAMP:20260421T172632
CREATED:20220513T172901Z
LAST-MODIFIED:20220519T072934Z
UID:6712-1657393200-1657393200@weerth200.de
SUMMARY:»Die Guillotine wird uns retten …«
DESCRIPTION:»… und die Leidenschaft der Weiber«\nZu einem Gastspiel ganz besonderer Art kommt es am Samstag\, 9. Juli 2022. Auf Einladung der Stadt Düsseldor gastiert das Weerth-Historical im Heinrich-Heine-Institut\, Bilker Str. 12-14 in Düsseldorf. \n→ Vorankündigung auf der Seite des Heinrich-Heine-Instituts \nMit dabei sind:\nDas Musikalisch-Literarische Quartett\nMaja Machalke\nder Singer und Songwriter Phil\ndas Vokalensemble „vielanders“
URL:https://weerth200.de/event/die-guillotine-wird-uns-retten-4/
LOCATION:Düsseldorf\, Heinrich-Heine-Institut\, Bilker Str. 12-14\, Düsseldorf\, NRW\, 40213\, Deutschland
ATTACH;FMTTYPE=image/jpeg:https://weerth200.de/wp-content/uploads/2022/05/Heinrich-Heine-Institut_qu-©-Heinrich-Heine-Institut.jpg
ORGANIZER;CN="Grabbe-Gesellschaft e.V.":MAILTO:info@grabbe.de
END:VEVENT
BEGIN:VEVENT
DTSTART;TZID=Europe/Berlin:20220708T200000
DTEND;TZID=Europe/Berlin:20220708T200000
DTSTAMP:20260421T172632
CREATED:20220513T171520Z
LAST-MODIFIED:20220601T104247Z
UID:6693-1657310400-1657310400@weerth200.de
SUMMARY:»Der Bruder des Pastors«
DESCRIPTION:Ein Historical zu Wilhelm und Georg Weerth\nGeorg Weerth (1822-1856) © LLB Detmold \nWilhelm Weerth (1815-1884) © LLB Detmold \nDr. Ferdinand Weerth (1774-1836) © LLB Detmold \nUngleicher konnten sie nicht ausfallen\, die beiden Brüder Wilhelm (1815-1884) und Georg (1822-1856)\, Söhne des berühmten lippischen Landessuperintendenten und Schulreformers Ferdinand Weerth (1774-1836). Während der jüngere Georg ein kurzes Leben voller Unruhe\, Revolutionen\, Geschäftigkeit und weltweiten Verbindungen hatte\, blieb der andere\, Wilhelm\, immer gern als Pastor in Blomberg\, wo er mit seiner Frau Charlotte\, geb. Piderit\, in seiner Zeit viel vor Ort verwirklichte. \nAusführende:\nDas Musikalisch-Literarische Quartett\nMaja Machalke\nder Singer und Songwriter Phil Meier\nVokalensemble „vielanders“ \nDer Eintritt ist frei (Kollekte am Ausgang). \n 
URL:https://weerth200.de/event/der-bruder-des-pastors/
LOCATION:Blomberg\, Ev.-ref. Kirche Im Seligen Winkel\, Im Seligen Winkel 12\, Blomberg\, NRW\, 32825\, Deutschland
ATTACH;FMTTYPE=image/jpeg:https://weerth200.de/wp-content/uploads/2022/05/blomberg_seligerwinkel_05.jpg
ORGANIZER;CN="Projektb%C3%BCro %C2%BBWeerth200%C2%AB":MAILTO:redaktion@weerth200.de
END:VEVENT
BEGIN:VEVENT
DTSTART;TZID=Europe/Berlin:20220601T200000
DTEND;TZID=Europe/Berlin:20220601T200000
DTSTAMP:20260421T172632
CREATED:20220317T093751Z
LAST-MODIFIED:20220524T135636Z
UID:5905-1654113600-1654113600@weerth200.de
SUMMARY:»Sechs Generationen der Familie Weerth in Lippe«
DESCRIPTION:Einladung zum „Genealogischen Abend“ als ZOOM-Meeting am Mittwoch\, 1. Juni 2022\, 20 Uhr (Zugang zum ZOOM-Meeting ab 19:45 Uhr). Dr. Hans-Joachim Keil hält einen Vortrag zu »Sechs Generationen der Familie Weerth in Lippe«. \nDie Familie Weerth stammt aus Wuppertal-Elberfeld. 1805 wurde der Pfarrer Ferdinand Weerth von Fürstin Pauline zum Superintendenten der lippischen Landeskirche berufen. Dieses Amt behielt er bis zu seinem Tod 1836 und gründete in Detmold den Lippischen Zweig dieser Familie. Aus dieser Familie gingen viele Persönlichkeit hervor\, über die Dr. Keil berichten wird. \nZugangsdaten:\nhttps://us02web.zoom.us/j/87475617142?pwd=Tk5NTTJKTFNjZzNNSGhtWDgwZnQyUT09\nMeeting-ID: 874 7561 7142\nKenncode: 497061 \nHerzliche Einladung!
URL:https://weerth200.de/event/sechs-generationen-der-familie-weerth-in-lippe/
LOCATION:Landesarchiv NRW Abteilung Ostwestfalen-Lippe\, Willi-Hofmann-Str. 2\, Detmold\, NRW\, 32756\, Deutschland
ATTACH;FMTTYPE=image/png:https://weerth200.de/wp-content/uploads/2022/03/Naturw.Hist_.Verein_Logo.png
ORGANIZER;CN="NHV Ahnenforschung":MAILTO:hj.keil@t-online.de
END:VEVENT
BEGIN:VEVENT
DTSTART;TZID=Europe/Berlin:20220401T180000
DTEND;TZID=Europe/Berlin:20220401T180000
DTSTAMP:20260421T172632
CREATED:20211219T150121Z
LAST-MODIFIED:20211219T150121Z
UID:4418-1648836000-1648836000@weerth200.de
SUMMARY:Weerth-Lesung
DESCRIPTION:Für humorvolle und geistreiche Zeitgenossen von 11-99 Jahren. Mit Maja Machalke\, Kara Pohlmann u. a. ehem. Schülerinnen und Schülern des Gymnasiums Leopoldinum Detmold. \nDer Eintritt ist frei.
URL:https://weerth200.de/event/weerth-lesung/
LOCATION:Detmold\, Stadtbibliothek\, Leopoldstr. 5\, Detmold\, NRW\, 32756\, Deutschland
ATTACH;FMTTYPE=image/jpeg:https://weerth200.de/wp-content/uploads/2021/04/210417_Scan0002-1.jpg
ORGANIZER;CN="Grabbe-Gesellschaft e.V.":MAILTO:info@grabbe.de
END:VEVENT
BEGIN:VEVENT
DTSTART;TZID=Europe/Berlin:20220328T190000
DTEND;TZID=Europe/Berlin:20220328T190000
DTSTAMP:20260421T172632
CREATED:20220324T094228Z
LAST-MODIFIED:20220324T094321Z
UID:6053-1648494000-1648494000@weerth200.de
SUMMARY:Malwida von Meysenbug. Revolutionärin\, Dichterin\, Freundin. Eine Frau im 19. Jahrhundert
DESCRIPTION:Der Naturwissenschaftliche und Historische Verein Lippe lädt ein\nzur Buchvorstellung und Lesung mit Prof. Dr. Joachim Radkau. Sein Buch ist seit dem 14. März 2022 auf dem Markt.\nca. 496 Seiten mit Abbildungen\, gebunden mit Lesebändchen. ISBN 978-3-446-27282-8 \nDie Veranstaltung des Naturwissenschaftlichen und Historischen Verein für das Land Lippe e.V. findet in Kooperation mit dem Stadtarchiv Detmold und der VHS Detmold-Lemgo statt. \nMalwida von Meysenbug (1816 – 1903) hätte das Leben einer Aristokratin führen können\, aber die in Detmold aufgewachsene Intellektuelle ging ihren eigenen Weg. 1848 stand sie auf der Seite der Revolutionäre\, später kämpfte sie für die Rechte der Frauen. Im Exil in London und Paris verkehrte sie in den wichtigsten künstlerischen und politischen Kreisen. Zurück in Deutschland wurde sie zur Vertrauten Wagners und Nietzsches\, in Rom schließlich fand diese europäische Kosmopolitin ihre zweite Heimat. Ihre Memoiren einer Idealistin waren ein Bestseller\, viele Frauen entdeckten darin die Möglichkeit\, aus eigener Kraft ein erfülltes Leben zu führen. \nJoachim Radkau\, geboren 1943\, lehrte als Professor bis 2009 Neuere Geschichte an der Universität Bielefeld. Er hat zahlreiche Bücher veröffentlicht\, die über die Geschichtswissenschaft hinaus große Beachtung fanden. Seine Biografie über Max Weber löste heftige Kontroversen aus. \nModeration: Dr. Bärbel Sunderbrink\, Stadtarchiv Detmold. Die Buchhandlung Kafka bietet einen Büchertisch an. \nDie Teilnahme an der Veranstaltung ist nach derzeit gültiger Coronaschutzverordnung nach der „3G“-Regel möglich. Teilnehmen kann\, wer vollständig geimpft\, getestet oder genesen ist. Als Testnachweis gilt ein zertifizierter Schnelltest (nicht älter als 24 Stunden) oder ein PCR-Test (nicht älter als 48 Stunden). Es gilt weiterhin eine Maskenpflicht.
URL:https://weerth200.de/event/der-naturwissenschaftliche-und-historische-verein-lippe-laedt-ein/
LOCATION:Detmold\, Aula der Alten Schule am Wall\, Wall 5\, Detmold\, NRW\, 32756\, Deutschland
ATTACH;FMTTYPE=image/jpeg:https://weerth200.de/wp-content/uploads/2022/03/Malwida-von-Meysenbug-LLB.jpg
END:VEVENT
BEGIN:VEVENT
DTSTART;TZID=Europe/Berlin:20220312T193000
DTEND;TZID=Europe/Berlin:20220312T193000
DTSTAMP:20260421T172632
CREATED:20211219T130726Z
LAST-MODIFIED:20220303T163106Z
UID:4392-1647113400-1647113400@weerth200.de
SUMMARY:»Kein schöner Ding ist auf der Welt\, …«
DESCRIPTION:NEUER TERMIN! – »… als seine Feinde zu beißen.«\nEin Fest der Satire zum 200. Geburtstag Georg Weerths mit Fritz Eckenga\, Bernd Gieseking\, Erwin Grosche\, Hans Zippert\, Dr. Peter Schütze u. a. \nDurch das Programm führen Hans Hermann Jansen\, Maja Machalke\, Kara Pohlmann\, Rainer Nummer. \nEintritt: 25 € | erm.* 15 € (VVK 20 € | 12 €) \nBereits gekaufte Karten behalten ihre Gültigkeit. Vorverkauf: direkt über die →Stadthalle Detmold/Reservix \n*Ermäßigung erhalten Mitglieder der Grabbe- und Hille-Gesellschaft sowie Schüler\, Studierende\, Menschen mit Behinderung und Inhaber von Ehrenamtskarten.
URL:https://weerth200.de/event/kein-schoener-ding-ist-auf-der-welt/
LOCATION:Detmold\, Stadthalle\, Schlossplatz 7\, Detmold\, NRW\, 32756\, Deutschland
ATTACH;FMTTYPE=image/png:https://weerth200.de/wp-content/uploads/2021/12/Kein-schoener-Ding-...-783x783-1.png
ORGANIZER;CN="Grabbe-Gesellschaft e.V.":MAILTO:info@grabbe.de
END:VEVENT
BEGIN:VEVENT
DTSTART;VALUE=DATE:20220311
DTEND;VALUE=DATE:20220313
DTSTAMP:20260421T172632
CREATED:20211212T112242Z
LAST-MODIFIED:20220304T111022Z
UID:4258-1646956800-1647129599@weerth200.de
SUMMARY:Georg Weerth als Reiseschriftsteller
DESCRIPTION:NEUER TERMIN! – Wissenschaftliches Symposium\nKolloquium mit den Weerth-Forschern: \n\nDr. Katharina Grabbe (Münster)\nPD Dr. Patrick Eiden-Offe (Berlin)\nDr. Bernd Füllner (Wuppertal\nProf. Dr. Florian Vaßen (Hannover)\nDr. Uwe Zemke (Leeds/UK)\nProf. Dr. Lothar Ehrlich (Weimar)\n\nAchtung\, geänderte Zeiten:\nFr. 11.3.2022 ab 15:00 Uhr | Sa. 12.3.2022 ab 9:30 Uhr \n→ Download des Ablaufs (PDF\, 0\,4 MB)
URL:https://weerth200.de/event/wissenschaftliches-symposion-georg-weerth-als-reiseschriftsteller/
LOCATION:Detmold\, Aula der Alten Schule am Wall\, Wall 5\, Detmold\, NRW\, 32756\, Deutschland
ATTACH;FMTTYPE=image/jpeg:https://weerth200.de/wp-content/uploads/2021/12/A7R2753.jpg
ORGANIZER;CN="Grabbe-Gesellschaft e.V.":MAILTO:info@grabbe.de
END:VEVENT
BEGIN:VEVENT
DTSTART;TZID=Europe/Berlin:20220227T160000
DTEND;TZID=Europe/Berlin:20220227T160000
DTSTAMP:20260421T172632
CREATED:20211219T145439Z
LAST-MODIFIED:20220218T075051Z
UID:4415-1645977600-1645977600@weerth200.de
SUMMARY:»Die Guillotine wird uns retten …«
DESCRIPTION:»… und die Leidenschaft der Weiber!«\nHistorical mit dem Musikalisch-Literarischen Quartett und dem Vokalensemble vielanders \nEintritt: 15 € | erm.* 12 € | Kontakt: karten@weerth200.de \n*Ermäßigung erhalten Mitglieder der Grabbe- und Hille-Gesellschaft sowie Schüler\, Studierende\, Menschen mit Behinderung und Inhaber von Ehrenamtskarten.
URL:https://weerth200.de/event/die-guillotine-wird-uns-retten-3/
LOCATION:Marienmünster\, Konzertsaal\, Abtei 3\, Marienmünster\, NRW\, 37696\, Deutschland
ATTACH;FMTTYPE=image/jpeg:https://weerth200.de/wp-content/uploads/2021/11/IMG_20211107_170922.jpg
ORGANIZER;CN="Grabbe-Gesellschaft e.V.":MAILTO:info@grabbe.de
END:VEVENT
BEGIN:VEVENT
DTSTART;TZID=Europe/Berlin:20220226T170000
DTEND;TZID=Europe/Berlin:20220226T170000
DTSTAMP:20260421T172632
CREATED:20211219T145138Z
LAST-MODIFIED:20220201T114813Z
UID:4412-1645894800-1645894800@weerth200.de
SUMMARY:Con spirito – Klingende Humoresken
DESCRIPTION:Zum 200. Geburtstag von Georg Weerth\nEine Veranstaltung mit Schülerinnen\, Schülern und Dozenten der Johannes-Brahms-Musikschule. Der Eintritt ist frei.
URL:https://weerth200.de/event/con-spirito-klingende-humoresken/
LOCATION:Detmold\, Alte Aula des Gymnasium Leopoldinum\, Hornsche Str. 48\, Detmold\, NRW\, 32756\, Deutschland
ATTACH;FMTTYPE=image/png:https://weerth200.de/wp-content/uploads/2021/12/weerth-logo-200-236x236-1.png
ORGANIZER;CN="Grabbe-Gesellschaft e.V.":MAILTO:info@grabbe.de
END:VEVENT
BEGIN:VEVENT
DTSTART;TZID=Europe/Berlin:20220225T190000
DTEND;TZID=Europe/Berlin:20220225T190000
DTSTAMP:20260421T172632
CREATED:20211219T142827Z
LAST-MODIFIED:20220215T101942Z
UID:4408-1645815600-1645815600@weerth200.de
SUMMARY:»Die Guillotine wird uns retten …«
DESCRIPTION:»… und die Leidenschaft der Weiber!«\nHistorical mit dem Musikalisch-Literarischen Quartett und dem Vokalensemble vielanders \nDer Eintritt ist frei. Wir bitten um Spenden am Ausgang.
URL:https://weerth200.de/event/die-guillotine-wird-uns-retten-2/
LOCATION:Wuppertal\, Internationales Begegnungszentrum des Caritasverbands Wuppertal/Solingen e.V.\, Hünefeldstr. 54 A\, Wuppertal\, NRW\, 42285\, Deutschland
ATTACH;FMTTYPE=image/jpeg:https://weerth200.de/wp-content/uploads/2021/11/IMG_20211107_170922.jpg
ORGANIZER;CN="Grabbe-Gesellschaft e.V.":MAILTO:info@grabbe.de
END:VEVENT
BEGIN:VEVENT
DTSTART;TZID=Europe/Berlin:20220220T160000
DTEND;TZID=Europe/Berlin:20220220T160000
DTSTAMP:20260421T172632
CREATED:20211219T141714Z
LAST-MODIFIED:20220218T075025Z
UID:4405-1645372800-1645372800@weerth200.de
SUMMARY:»Verliebtsein ist eine abscheuliche Plage …«
DESCRIPTION:Szenische Lesung\nBriefe von Betty Tendering und Georg Weerth\, vorgetragen vom Musikalisch-Literarischen Quartett \nEintritt: 15 € | erm.* 12 € | Kontakt: karten@weerth200.de \n*Ermäßigung erhalten Mitglieder der Grabbe- und Hille-Gesellschaft sowie Schüler\, Studierende\, Menschen mit Behinderung und Inhaber von Ehrenamtskarten.
URL:https://weerth200.de/event/verliebtsein-ist-eine-abscheuliche-plage/
LOCATION:Detmold\, Aula der Alten Schule am Wall\, Wall 5\, Detmold\, NRW\, 32756\, Deutschland
ATTACH;FMTTYPE=image/jpeg:https://weerth200.de/wp-content/uploads/2021/01/frau.jpg
ORGANIZER;CN="Grabbe-Gesellschaft e.V.":MAILTO:info@grabbe.de
END:VEVENT
BEGIN:VEVENT
DTSTART;VALUE=DATE:20220220
DTEND;VALUE=DATE:20220425
DTSTAMP:20260421T172632
CREATED:20220214T120007Z
LAST-MODIFIED:20220303T163658Z
UID:5346-1645315200-1650844799@weerth200.de
SUMMARY:WEERTH-Volles
DESCRIPTION:Zeichnungen | Collagen | Objekte\nvon Rainer Nummer \nEine Ausstellung im Rahmen des Projekts Weerth 200. Die Eröffnung findet statt am Sonntag\, 20. Februar 2022\, 14 Uhr. Geöffnet ist der Ausstellungsraum jeweils Dienstag bis Donnerstag von 11-18 Uhr. Weitere Arbeiten von Rainer Nummer im Rahmen dieses Projekts sind im Rathaus Detmold und in der Lippischen Landesbibliothek zu sehen. \nDer Eintritt ist frei.
URL:https://weerth200.de/event/weerth-volles/
LOCATION:Atelier freiraum Detmold\, Freiligrathstr. 7\, Detmold\, NRW\, 32756\, Deutschland
ATTACH;FMTTYPE=image/jpeg:https://weerth200.de/wp-content/uploads/2021/12/061_nummer-weerth-zyklus_0089.jpg
ORGANIZER;CN="Grabbe-Gesellschaft e.V.":MAILTO:info@grabbe.de
END:VEVENT
BEGIN:VEVENT
DTSTART;TZID=Europe/Berlin:20220219T190000
DTEND;TZID=Europe/Berlin:20220219T190000
DTSTAMP:20260421T172632
CREATED:20211219T140424Z
LAST-MODIFIED:20220218T074934Z
UID:4399-1645297200-1645297200@weerth200.de
SUMMARY:»Die Guillotine wird uns retten …«
DESCRIPTION:»… und die Leidenschaft der Weiber!«\nHistorical mit dem Musikalisch-Literarischen Quartett und dem Vokalensemble vielanders \nEintritt: 15 € | erm.* 12 € | Kontakt: karten@weerth200.de \n*Ermäßigung erhalten Mitglieder der Grabbe- und Hille-Gesellschaft sowie Schüler\, Studierende\, Menschen mit Behinderung und Inhaber von Ehrenamtskarten.\n 
URL:https://weerth200.de/event/die-guillotine-wird-uns-retten/
LOCATION:Detmold\, Aula der Alten Schule am Wall\, Wall 5\, Detmold\, NRW\, 32756\, Deutschland
ATTACH;FMTTYPE=image/jpeg:https://weerth200.de/wp-content/uploads/2021/11/IMG_20211107_170922.jpg
ORGANIZER;CN="Grabbe-Gesellschaft e.V.":MAILTO:info@grabbe.de
END:VEVENT
BEGIN:VEVENT
DTSTART;TZID=Europe/Berlin:20220218T180000
DTEND;TZID=Europe/Berlin:20220218T180000
DTSTAMP:20260421T172632
CREATED:20211219T135744Z
LAST-MODIFIED:20211219T135744Z
UID:4396-1645207200-1645207200@weerth200.de
SUMMARY:»Die letzten Tage des Georg W.«
DESCRIPTION:Spielfilm DDR 1985/86\nDer Eintritt ist frei.
URL:https://weerth200.de/event/die-letzten-tage-des-georg-w/
LOCATION:Detmold\, Aula der Alten Schule am Wall\, Wall 5\, Detmold\, NRW\, 32756\, Deutschland
ATTACH;FMTTYPE=image/jpeg:https://weerth200.de/wp-content/uploads/2021/12/cinema-4153289_1920_©-Mohamed-Hassan_Pixabay.jpg
ORGANIZER;CN="Grabbe-Gesellschaft e.V.":MAILTO:info@grabbe.de
END:VEVENT
BEGIN:VEVENT
DTSTART;TZID=Europe/Berlin:20220217T180000
DTEND;TZID=Europe/Berlin:20220217T180000
DTSTAMP:20260421T172632
CREATED:20211219T130010Z
LAST-MODIFIED:20220217T091619Z
UID:4388-1645120800-1645120800@weerth200.de
SUMMARY:ABGESAGT! - Festakt zum 200. Geburtstag
DESCRIPTION:Wegen Unwetterwarnungen sind alle Veranstaltungen am Donnerstag\, 17. Februar 2022\, abgesagt.\nSobald ein neuer Termin gefunden wurde\, informieren wir umgehend. Wir bedauern die Absage sehr\, müssen uns aber der höheren (Wetter-)Gewalt beugen. \n  \nMusikalische Umrahmung: Chorgemeinschaft cantus novus\, Phil solo u. a. \n 
URL:https://weerth200.de/event/festakt-zum-200-geburtstag/
LOCATION:Detmold\, Stadthalle\, Schlossplatz 7\, Detmold\, NRW\, 32756\, Deutschland
ATTACH;FMTTYPE=image/png:https://weerth200.de/wp-content/uploads/2021/12/weerth-logo-200-236x236-1.png
ORGANIZER;CN="Grabbe-Gesellschaft e.V.":MAILTO:info@grabbe.de
END:VEVENT
BEGIN:VEVENT
DTSTART;TZID=Europe/Berlin:20220217T170000
DTEND;TZID=Europe/Berlin:20220217T170000
DTSTAMP:20260421T172632
CREATED:20211213T111016Z
LAST-MODIFIED:20220217T091559Z
UID:4331-1645117200-1645117200@weerth200.de
SUMMARY:ABGESAGT! - Mit fliegenden Fahnen der Demokratie
DESCRIPTION:Wegen Unwetterwarnungen sind alle Veranstaltungen am Donnerstag\, 17. Februar 2022\, abgesagt.\nSobald ein neuer Termin gefunden wurde\, informieren wir umgehend. Wir bedauern die Absage sehr\, müssen uns aber der höheren (Wetter-)Gewalt beugen. \n  \nÖffentliche »Proklamation« auf dem Marktplatz zum Start des Weerth-Jahres\nund Ausstellungseröffnung
URL:https://weerth200.de/event/mit-fliegenden-fahnen/
LOCATION:Detmold\, Rathaus\, Marktplatz 5\, Detmold\, NRW\, 32756\, Deutschland
ATTACH;FMTTYPE=image/jpeg:https://weerth200.de/wp-content/uploads/2021/12/IMG_20211107_171452.jpg
ORGANIZER;CN="Grabbe-Gesellschaft e.V.":MAILTO:info@grabbe.de
END:VEVENT
BEGIN:VEVENT
DTSTART;TZID=Europe/Berlin:20220205T163000
DTEND;TZID=Europe/Berlin:20220205T163000
DTSTAMP:20260421T172632
CREATED:20211229T175618Z
LAST-MODIFIED:20211230T071233Z
UID:4584-1644078600-1644078600@weerth200.de
SUMMARY:Weerth im Original
DESCRIPTION:Zweite lange Lesenacht\n»Leben und Thaten des berühmten Ritters Schnapphahnski«\, gelesen von der Abiturientia 2022. \nDer Eintritt ist frei.
URL:https://weerth200.de/event/weerth-im-original-2/
LOCATION:Detmold\, Alte Aula des Gymnasium Leopoldinum\, Hornsche Str. 48\, Detmold\, NRW\, 32756\, Deutschland
ATTACH;FMTTYPE=image/jpeg:https://weerth200.de/wp-content/uploads/2021/12/Schnapphahnski-3.jpg
ORGANIZER;CN="Grabbe-Gesellschaft e.V.":MAILTO:info@grabbe.de
END:VEVENT
BEGIN:VEVENT
DTSTART;TZID=Europe/Berlin:20220204T163000
DTEND;TZID=Europe/Berlin:20220204T163000
DTSTAMP:20260421T172632
CREATED:20211229T174655Z
LAST-MODIFIED:20211229T175640Z
UID:4579-1643992200-1643992200@weerth200.de
SUMMARY:Weerth im Original
DESCRIPTION:Erste lange Lesenacht\nGedichte\, Briefe\, Prosa – ein Querschnitt durch das literarische Werk Georg Weerths\, gestaltet von der Abiturientia 2022. \nDer Eintritt ist frei.
URL:https://weerth200.de/event/weerth-im-original/
LOCATION:Detmold\, Alte Aula des Gymnasium Leopoldinum\, Hornsche Str. 48\, Detmold\, NRW\, 32756\, Deutschland
ATTACH;FMTTYPE=image/jpeg:https://weerth200.de/wp-content/uploads/2021/04/210417_Scan0002-1.jpg
ORGANIZER;CN="Grabbe-Gesellschaft e.V.":MAILTO:info@grabbe.de
END:VEVENT
END:VCALENDAR